BEGIN:VCALENDAR
VERSION:2.0
PRODID:Spatie calendar-links
BEGIN:VEVENT
UID:2427d6376fda699096030a669dcb6039
SUMMARY:COP27
DTSTAMP:20221107T000000Z
DTSTART:20221107T000000Z
DTEND:20221107T010000Z
END:VEVENT
END:VCALENDAR