BEGIN:VCALENDAR
VERSION:2.0
PRODID:Spatie calendar-links
BEGIN:VEVENT
UID:580afcf80f4cb825dcf04be545a940a4
SUMMARY:WOW Estonia ansambel
DTSTAMP:20231215T000000Z
DTSTART:20231215T000000Z
DTEND:20231215T010000Z
END:VEVENT
END:VCALENDAR