BEGIN:VCALENDAR
VERSION:2.0
PRODID:Spatie calendar-links
BEGIN:VEVENT
UID:369a30e7937b3c86d3bed20466a2fd55
SUMMARY:Stefan bändiga
DTSTAMP:20231215T000000Z
DTSTART:20231215T000000Z
DTEND:20231215T010000Z
END:VEVENT
END:VCALENDAR