BEGIN:VCALENDAR
VERSION:2.0
PRODID:Spatie calendar-links
BEGIN:VEVENT
UID:9b1153ae3e6eb0e08ba91321834133c8
SUMMARY:Avasõnad
DTSTAMP:20231215T000000Z
DTSTART:20231215T000000Z
DTEND:20231215T010000Z
END:VEVENT
END:VCALENDAR