BEGIN:VCALENDAR
VERSION:2.0
PRODID:Spatie calendar-links
BEGIN:VEVENT
UID:2f0a06b8cc6228548532994534a3f13c
SUMMARY:Endure
DTSTAMP:20250930T190000Z
DTSTART:20250930T190000Z
DTEND:20250930T200000Z
END:VEVENT
END:VCALENDAR