BEGIN:VCALENDAR
VERSION:2.0
PRODID:Spatie calendar-links
BEGIN:VEVENT
UID:500623fd7e8be2634be583281d49e968
SUMMARY:Doors open 8:30 (Tallinn Creative Hub\, Kursi tn 3\, Tallinn)
DTSTAMP:20241128T000000Z
DTSTART:20241128T000000Z
DTEND:20241128T010000Z
END:VEVENT
END:VCALENDAR