BEGIN:VCALENDAR
VERSION:2.0
PRODID:Spatie calendar-links
BEGIN:VEVENT
UID:3e04b1d83e983bd41dc66b0150399601
SUMMARY:Karmely20
DTSTAMP:20231112T000000Z
DTSTART:20231112T000000Z
DTEND:20231112T010000Z
END:VEVENT
END:VCALENDAR