BEGIN:VCALENDAR
VERSION:2.0
PRODID:Spatie calendar-links
BEGIN:VEVENT
UID:57b41278a53980d6474edc8fcf699521
SUMMARY:Andetute akadeemia
DTSTAMP:20230512T000000Z
DTSTART:20230512T000000Z
DTEND:20230512T010000Z
END:VEVENT
END:VCALENDAR