BEGIN:VCALENDAR
VERSION:2.0
PRODID:Spatie calendar-links
BEGIN:VEVENT
UID:7bd3b7e47705fd40f4e551a98e849f27
SUMMARY:Raha
DTSTAMP:20230502T000000Z
DTSTART:20230502T000000Z
DTEND:20230502T010000Z
END:VEVENT
END:VCALENDAR