BEGIN:VCALENDAR
VERSION:2.0
PRODID:Spatie calendar-links
BEGIN:VEVENT
UID:d3b9f3855aa4c8cbd7515af1a9e2f110
SUMMARY:Tech 5.0
DTSTAMP:20220722T000000Z
DTSTART:20220722T000000Z
DTEND:20220722T010000Z
END:VEVENT
END:VCALENDAR