BEGIN:VCALENDAR
VERSION:2.0
PRODID:Spatie calendar-links
BEGIN:VEVENT
UID:fd3a31a8e6e01c9e14b74df4b72dd393
SUMMARY:Desert
DTSTAMP:20231215T000000Z
DTSTART:20231215T000000Z
DTEND:20231215T010000Z
END:VEVENT
END:VCALENDAR