BEGIN:VCALENDAR
VERSION:2.0
PRODID:Spatie calendar-links
BEGIN:VEVENT
UID:ba8d50a0fbe800feca599642240593fb
SUMMARY:AWARD CEREMONY\, PART II
DTSTAMP:20231215T000000Z
DTSTART:20231215T000000Z
DTEND:20231215T010000Z
END:VEVENT
END:VCALENDAR