BEGIN:VCALENDAR
VERSION:2.0
PRODID:Spatie calendar-links
BEGIN:VEVENT
UID:7671bb61f6715245cbfa9c56f2a3d4ed
SUMMARY:Lunch time concert: UMO Helsinki Jazz Orchestra &#038\; Metropolia’s New Talents 2026
DTSTAMP:20260122T120000Z
DTSTART:20260122T120000Z
DTEND:20260122T130000Z
END:VEVENT
END:VCALENDAR