BEGIN:VCALENDAR
VERSION:2.0
PRODID:Spatie calendar-links
BEGIN:VEVENT
UID:8717127cc64915dc457daa8a4f9105af
SUMMARY:Baltic Jazz: UMO Helsinki Ensemble – Greetings from New Orleans
DTSTAMP:20250705T203000Z
DTSTART:20250705T203000Z
DTEND:20250705T213000Z
END:VEVENT
END:VCALENDAR