BEGIN:VCALENDAR
VERSION:2.0
PRODID:Spatie calendar-links
BEGIN:VEVENT
UID:d0105017c88c0b719475489dc677009c
SUMMARY:Funky Finns &#038\; UMO Helsinki Jazz Orchestra
DTSTAMP:20240322T190000Z
DTSTART:20240322T190000Z
DTEND:20240322T200000Z
END:VEVENT
END:VCALENDAR