BEGIN:VCALENDAR
VERSION:2.0
PRODID:Spatie calendar-links
BEGIN:VEVENT
UID:8bf571716fab6f943eac9505fea4ea59
SUMMARY:Funky Finns &#038\; UMO Helsinki Jazz Orchestra
DTSTAMP:20240321T190000Z
DTSTART:20240321T190000Z
DTEND:20240321T200000Z
END:VEVENT
END:VCALENDAR