BEGIN:VCALENDAR
VERSION:2.0
PRODID:Spatie calendar-links
BEGIN:VEVENT
UID:27ce620edbc62c9ffcb58822a356be05
SUMMARY:Funky Finns &#038\; UMO Helsinki Jazz Orchestra
DTSTAMP:20240320T190000Z
DTSTART:20240320T190000Z
DTEND:20240320T200000Z
END:VEVENT
END:VCALENDAR